BEGIN:VCALENDAR
VERSION:2.0
PRODID:-//Bella and Bella Productions - ECPv6.15.12.2//NONSGML v1.0//EN
CALSCALE:GREGORIAN
METHOD:PUBLISH
X-WR-CALNAME:Bella and Bella Productions
X-ORIGINAL-URL:https://bellaandbellaproduction.com
X-WR-CALDESC:Events for Bella and Bella Productions
REFRESH-INTERVAL;VALUE=DURATION:PT1H
X-Robots-Tag:noindex
X-PUBLISHED-TTL:PT1H
BEGIN:VTIMEZONE
TZID:Asia/Dubai
BEGIN:STANDARD
TZOFFSETFROM:+0400
TZOFFSETTO:+0400
TZNAME:+04
DTSTART:20230101T000000
END:STANDARD
END:VTIMEZONE
BEGIN:VEVENT
DTSTART;TZID=Asia/Dubai:20250510T090000
DTEND;TZID=Asia/Dubai:20250510T180000
DTSTAMP:20260423T193004
CREATED:20250217T095103Z
LAST-MODIFIED:20250302T084648Z
UID:3870-1746867600-1746900000@bellaandbellaproduction.com
SUMMARY:2025 WOMEN IN BUSINESS:  PRACTICING COURAGEOUS & EMPATHETIC LEADERSHIP
DESCRIPTION:Join Us for the 2025 Women in Business Conference: Practicing Courageous & Empathetic Leadership \nEmpower\, Connect\, Lead: Dive into a day of empowering workshops\, insightful panel discussions\, and networking designed for women entrepreneurs and professionals ready to lead with boldness and compassion. Our third annual conference\, built on the success of our past events\, focuses on “Practicing Courageous & Empathetic Leadership.” \nDate & Time: Saturday\, May 10\, 9 am to 6 pm (includes breakfast and lunch)\nLocation: Heriot-Watt University Dubai  \nWhat to Expect:  \n\nEngage with thought leaders through targeted workshops and intimate coffee chat sessions to acquire advanced leadership skills.\nDeepen your understanding of making impactful decisions while fostering inclusive environments.\nGain insights into accessing resources and funding for initiatives requiring strong\, empathetic leadership.\n\nWho Should Attend:  \n\nWomen entrepreneurs\, community leaders and change makers\nUniversity students\, and faculty committed to developing leadership skills that blend courage with empathy\n\nEvent Highlights: \n\nKeynote speech by Juliet Chioma\, a distinguished Heriot-Watt graduate\, setting the stage for a day of courageous and empathetic leadership exploration.\nInsights from influential leaders across the finance\, healthcare\, and education sectors\, sharing their experiences and strategies for successful leadership.\nWorkshops designed to tackle real-world challenges in leadership\nPanel discussion on “Empowering Women Entrepreneurs: Courageous Leadership in Action”\nOpportunities to network and collaborate on community and business projects\n\nRegister Now: Secure your spot to be part of this transformative day. Limited seats available!
URL:https://bellaandbellaproduction.com/event/wib2025/
LOCATION:Heriot-Watt University\, Al Sufouh - Knowledge Park\, Dubai\, United Arab Emirates
ATTACH;FMTTYPE=image/jpeg:https://bellaandbellaproduction.com/wp-content/uploads/2025/02/WIB_PCEL_V2_main-creative-horizontal-layout.jpg
END:VEVENT
BEGIN:VEVENT
DTSTART;TZID=Asia/Dubai:20240427T090000
DTEND;TZID=Asia/Dubai:20240427T180000
DTSTAMP:20260423T193004
CREATED:20240331T135521Z
LAST-MODIFIED:20240425T225348Z
UID:3635-1714208400-1714240800@bellaandbellaproduction.com
SUMMARY:WOMEN IN BUSINESS: BUILDING FOR SUSTAINABLE ACTION AND INNOVATION
DESCRIPTION:Women In Business: Building For Sustainable Action And Innovation\n\nGET YOUR TICKET HERE\n\nEVENT SCHEDULE\nWe’re thrilled to offer an inspiring opportunity to empower and connect at the “Women in Business: Building for Sustainable Action and Innovation” conference on April 27 (Breakfast and lunch are included)\, brought to you by Bella and Bella Productions in partnership with Heriot-Watt University Dubai. \nDon’t miss your chance to be part of this MUST-attend event! \nEVENT HIGHLIGHTS \n\nDate & Time: April 27th\, 9 AM to 6 PM (Includes breakfast and lunch)\nVenue: Heriot-Watt University\, Dubai MAP link\nFocus: Sustainable Action & Innovation in Business\nSpeaker Lineup: Featuring distinguished speakers such as Professor Fiona Robson (Head of Edinburgh Business School and School of Social Sciences)\, Dr Beatrix Henkel (Co-Founder of Hempy People)\, and Annie Hasnain (Director of Sempergreen Middle East)\, along with other influential leaders.\n\nWHY ATTEND? \n\nLearn from experts in sustainability and business innovation.\nNetwork with industry leaders and professionals passionate about sustainable development.\nDiscover new resources and opportunities.\nJoin an empowering community making a real difference.\n\nRESERVE YOUR SPOT NOW! \nInvest in your growth and connect with like-minded professionals. Register today to secure your spot  and be part of a transformative journey. \nReady for an empowering day of growth\, learning\, and networking? We can not wait to welcome you!
URL:https://bellaandbellaproduction.com/event/women-in-business-building-for-sustainable-action-and-innovation/
LOCATION:Heriot-Watt University\, Al Sufouh - Knowledge Park\, Dubai\, United Arab Emirates
ATTACH;FMTTYPE=image/jpeg:https://bellaandbellaproduction.com/wp-content/uploads/2024/03/Green-Horizontal-scaled.jpg
END:VEVENT
END:VCALENDAR